BEGIN:VCALENDAR
VERSION:2.0
PRODID:-//Bean Commission - ECPv6.15.17.1//NONSGML v1.0//EN
CALSCALE:GREGORIAN
METHOD:PUBLISH
X-WR-CALNAME:Bean Commission
X-ORIGINAL-URL:https://bean.idaho.gov
X-WR-CALDESC:Events for Bean Commission
REFRESH-INTERVAL;VALUE=DURATION:PT1H
X-Robots-Tag:noindex
X-PUBLISHED-TTL:PT1H
BEGIN:VTIMEZONE
TZID:America/Boise
BEGIN:DAYLIGHT
TZOFFSETFROM:-0700
TZOFFSETTO:-0600
TZNAME:MDT
DTSTART:20190310T090000
END:DAYLIGHT
BEGIN:STANDARD
TZOFFSETFROM:-0600
TZOFFSETTO:-0700
TZNAME:MST
DTSTART:20191103T080000
END:STANDARD
BEGIN:DAYLIGHT
TZOFFSETFROM:-0700
TZOFFSETTO:-0600
TZNAME:MDT
DTSTART:20200308T090000
END:DAYLIGHT
BEGIN:STANDARD
TZOFFSETFROM:-0600
TZOFFSETTO:-0700
TZNAME:MST
DTSTART:20201101T080000
END:STANDARD
BEGIN:DAYLIGHT
TZOFFSETFROM:-0700
TZOFFSETTO:-0600
TZNAME:MDT
DTSTART:20210314T090000
END:DAYLIGHT
BEGIN:STANDARD
TZOFFSETFROM:-0600
TZOFFSETTO:-0700
TZNAME:MST
DTSTART:20211107T080000
END:STANDARD
END:VTIMEZONE
BEGIN:VEVENT
DTSTART;VALUE=DATE:20200130
DTEND;VALUE=DATE:20200131
DTSTAMP:20260424T215037
CREATED:20191209T180758Z
LAST-MODIFIED:20200114T222112Z
UID:3905-1580342400-1580428799@bean.idaho.gov
SUMMARY:Treasure Valley Bean School
DESCRIPTION:PLEASE NOTE THE NEW LOCATION! \nRegistration opens at 7:30am \nThe program begins at 8:00am \nREGISTER ONLINE \nShare
URL:https://bean.idaho.gov/event/treasure-valley-bean-school/
LOCATION:Idaho Fish and Game SW Reg Office\, 15950 N Gate Blvd\, Nampa\, ID\, 83687\, United States
END:VEVENT
END:VCALENDAR