BEGIN:VCALENDAR
VERSION:2.0
PRODID:-//Bean Commission - ECPv5.9.0//NONSGML v1.0//EN
CALSCALE:GREGORIAN
METHOD:PUBLISH
X-WR-CALNAME:Bean Commission
X-ORIGINAL-URL:https://bean.idaho.gov
X-WR-CALDESC:Events for Bean Commission
BEGIN:VTIMEZONE
TZID:America/Boise
BEGIN:DAYLIGHT
TZOFFSETFROM:-0700
TZOFFSETTO:-0600
TZNAME:MDT
DTSTART:20210314T090000
END:DAYLIGHT
BEGIN:STANDARD
TZOFFSETFROM:-0600
TZOFFSETTO:-0700
TZNAME:MST
DTSTART:20211107T080000
END:STANDARD
END:VTIMEZONE
BEGIN:VEVENT
DTSTART;TZID=America/Boise:20210128T090000
DTEND;TZID=America/Boise:20210128T110000
DTSTAMP:20210911T063253
CREATED:20210121T235529Z
LAST-MODIFIED:20210121T235529Z
UID:3962-1611824400-1611831600@bean.idaho.gov
SUMMARY:2021 Virtual Bean School\, cont.
DESCRIPTION:Please join us on Jan 27 & 28th\, starting at 9:00am for our 2021 Virtual Bean Schools!  2 applicator credits are available.  All participants must register before Jan 25th using the link\, here: https://uidaho.co1.qualtrics.com/jfe/form/SV_06cfCiLAMJF5yjb \nWe hope to ‘see’ you then!! \nShare
URL:https://bean.idaho.gov/event/2021-virtual-bean-school-cont/
END:VEVENT
END:VCALENDAR